BEGIN:VCALENDAR
VERSION:2.0
PRODID:-//FCG Lörrach - ECPv6.15.20//NONSGML v1.0//EN
CALSCALE:GREGORIAN
METHOD:PUBLISH
X-WR-CALNAME:FCG Lörrach
X-ORIGINAL-URL:https://fcg-loerrach.de
X-WR-CALDESC:Veranstaltungen für FCG Lörrach
REFRESH-INTERVAL;VALUE=DURATION:PT1H
X-Robots-Tag:noindex
X-PUBLISHED-TTL:PT1H
BEGIN:VTIMEZONE
TZID:Europe/Berlin
BEGIN:DAYLIGHT
TZOFFSETFROM:+0100
TZOFFSETTO:+0200
TZNAME:CEST
DTSTART:20250330T010000
END:DAYLIGHT
BEGIN:STANDARD
TZOFFSETFROM:+0200
TZOFFSETTO:+0100
TZNAME:CET
DTSTART:20251026T010000
END:STANDARD
BEGIN:DAYLIGHT
TZOFFSETFROM:+0100
TZOFFSETTO:+0200
TZNAME:CEST
DTSTART:20260329T010000
END:DAYLIGHT
BEGIN:STANDARD
TZOFFSETFROM:+0200
TZOFFSETTO:+0100
TZNAME:CET
DTSTART:20261025T010000
END:STANDARD
BEGIN:DAYLIGHT
TZOFFSETFROM:+0100
TZOFFSETTO:+0200
TZNAME:CEST
DTSTART:20270328T010000
END:DAYLIGHT
BEGIN:STANDARD
TZOFFSETFROM:+0200
TZOFFSETTO:+0100
TZNAME:CET
DTSTART:20271031T010000
END:STANDARD
END:VTIMEZONE
BEGIN:VEVENT
DTSTART;TZID=Europe/Berlin:20260516T100000
DTEND;TZID=Europe/Berlin:20260516T120000
DTSTAMP:20260420T104334
CREATED:20260417T070820Z
LAST-MODIFIED:20260417T071916Z
UID:11274-1778925600-1778932800@fcg-loerrach.de
SUMMARY:OpenAir Gottesdienst
DESCRIPTION:TESTVERANSTALTUNG „Wir feiern gemeinsam einen öffentlichen Gottesdienst in Lörach.“
URL:https://fcg-loerrach.de/event/openair-gottesdienst
LOCATION:Verschiedene Gemeinden Lörrach\, Lörrach\, Deutschland
CATEGORIES:sonstige Termine
ATTACH;FMTTYPE=image/jpeg:https://fcg-loerrach.de/wp-content/uploads/2026/01/Taufe-Sommer-2024-12-von-192-scaled.jpg
END:VEVENT
BEGIN:VEVENT
DTSTART;TZID=Europe/Berlin:20260520T190000
DTEND;TZID=Europe/Berlin:20260520T203000
DTSTAMP:20260420T104334
CREATED:20260417T082402Z
LAST-MODIFIED:20260417T082402Z
UID:11294-1779303600-1779309000@fcg-loerrach.de
SUMMARY:Gebetsabend
DESCRIPTION:  \nWir treffen uns am Donnerstagabend im Gemeindesaal zum gemeinsamen Gebet.
URL:https://fcg-loerrach.de/event/gebetsabend-2
ATTACH;FMTTYPE=image/jpeg:https://fcg-loerrach.de/wp-content/uploads/2026/03/WhatsApp-Image-2026-03-08-at-12.53.19.jpeg
END:VEVENT
BEGIN:VEVENT
DTSTART;TZID=Europe/Berlin:20260521T190000
DTEND;TZID=Europe/Berlin:20260521T203000
DTSTAMP:20260420T104334
CREATED:20260417T081906Z
LAST-MODIFIED:20260417T081906Z
UID:11292-1779390000-1779395400@fcg-loerrach.de
SUMMARY:Gebetsabend
DESCRIPTION:  \nWir treffen uns am Donnerstagabend im Saal für einen gemeinsamen Gebetsabend.
URL:https://fcg-loerrach.de/event/gebetsabend
ATTACH;FMTTYPE=image/jpeg:https://fcg-loerrach.de/wp-content/uploads/2026/03/WhatsApp-Image-2026-03-08-at-12.53.19-1.jpeg
END:VEVENT
BEGIN:VEVENT
DTSTART;TZID=Europe/Berlin:20260605T080000
DTEND;TZID=Europe/Berlin:20260605T110000
DTSTAMP:20260420T104334
CREATED:20260417T074658Z
LAST-MODIFIED:20260417T074658Z
UID:11282-1780646400-1780657200@fcg-loerrach.de
SUMMARY:Healing Rooms
DESCRIPTION:TEST: „Wir haben wieder Heilungsräume. Komm vorbei und lass für dich beten.“
URL:https://fcg-loerrach.de/event/healing-rooms
LOCATION:Verschiedene Gemeinden Lörrach\, Lörrach\, Deutschland
CATEGORIES:sonstige Termine
ATTACH;FMTTYPE=image/png:https://fcg-loerrach.de/wp-content/uploads/2026/01/Bildschirmfoto-2026-01-30-um-11.31.08.png
END:VEVENT
END:VCALENDAR